BEGIN:VCALENDAR
VERSION:2.0
PRODID:-//KNHS Voltigevereniging - ECPv6.8.1//NONSGML v1.0//EN
CALSCALE:GREGORIAN
METHOD:PUBLISH
X-ORIGINAL-URL:https://knhsvv.nl
X-WR-CALDESC:Evenementen voor KNHS Voltigevereniging
REFRESH-INTERVAL;VALUE=DURATION:PT1H
X-Robots-Tag:noindex
X-PUBLISHED-TTL:PT1H
BEGIN:VTIMEZONE
TZID:Europe/Paris
BEGIN:DAYLIGHT
TZOFFSETFROM:+0100
TZOFFSETTO:+0200
TZNAME:CEST
DTSTART:20230326T010000
END:DAYLIGHT
BEGIN:STANDARD
TZOFFSETFROM:+0200
TZOFFSETTO:+0100
TZNAME:CET
DTSTART:20231029T010000
END:STANDARD
END:VTIMEZONE
BEGIN:VEVENT
DTSTART;VALUE=DATE:20230520
DTEND;VALUE=DATE:20230522
DTSTAMP:20260421T213112
CREATED:20230131T105851Z
LAST-MODIFIED:20230131T105921Z
UID:2516-1684540800-1684713599@knhsvv.nl
SUMMARY:Trainingsworkshops met Jacques Ferrari - KNHSVV
DESCRIPTION:De KNHS VV organiseert trainingsworkshops met Jacques Ferrari gericht op voltigeurs (solo\, PDD of team) met minimaal M/ Junioren niveau. Meer informatie volgt z.s.m. \n 
URL:https://knhsvv.nl/event/trainingsworkshops-met-jacques-ferrari-knhsvv/
LOCATION:Trainingscenter IETS ANDERS\, Oudedijk 129\, Odiliapeel\, Noord-Brabant\, 5409SC\, Netherlands
CATEGORIES:Door KNHS Voltigevereniging,Evenementen
END:VEVENT
END:VCALENDAR