BEGIN:VCALENDAR
VERSION:2.0
PRODID:-//KNHS Voltigevereniging - ECPv6.8.1//NONSGML v1.0//EN
CALSCALE:GREGORIAN
METHOD:PUBLISH
X-ORIGINAL-URL:https://knhsvv.nl
X-WR-CALDESC:Evenementen voor KNHS Voltigevereniging
REFRESH-INTERVAL;VALUE=DURATION:PT1H
X-Robots-Tag:noindex
X-PUBLISHED-TTL:PT1H
BEGIN:VTIMEZONE
TZID:Europe/Paris
BEGIN:DAYLIGHT
TZOFFSETFROM:+0100
TZOFFSETTO:+0200
TZNAME:CEST
DTSTART:20230326T010000
END:DAYLIGHT
BEGIN:STANDARD
TZOFFSETFROM:+0200
TZOFFSETTO:+0100
TZNAME:CET
DTSTART:20231029T010000
END:STANDARD
END:VTIMEZONE
BEGIN:VEVENT
DTSTART;TZID=Europe/Paris:20231001T090000
DTEND;TZID=Europe/Paris:20231001T180000
DTSTAMP:20260421T144633
CREATED:20230912T101918Z
LAST-MODIFIED:20230912T101948Z
UID:2720-1696150800-1696183200@knhsvv.nl
SUMMARY:Scoutingdag Stimuleringsprogramma Jonge Talenten KNHS voltigevereniging - Manege de Burght
DESCRIPTION:Scoutingdag Jonge Talenten tot 16 jaar bij Manege de Burght\, Barneveld tijd en nadere informatie volgt z.s.m.
URL:https://knhsvv.nl/event/scoutingdag-stimuleringsprogramma-jonge-talenten-knhs-voltigevereniging-manege-de-burght/
LOCATION:Manege de Burght\, Valkseweg 128\, Barneveld\, Gelderland\, 3771 SH\, Nederland
CATEGORIES:Door KNHS Voltigevereniging,Evenementen
END:VEVENT
END:VCALENDAR