BEGIN:VCALENDAR
VERSION:2.0
PRODID:-//KNHS Voltigevereniging - ECPv6.8.1//NONSGML v1.0//EN
CALSCALE:GREGORIAN
METHOD:PUBLISH
X-WR-CALNAME:KNHS Voltigevereniging
X-ORIGINAL-URL:https://knhsvv.nl
X-WR-CALDESC:Evenementen voor KNHS Voltigevereniging
REFRESH-INTERVAL;VALUE=DURATION:PT1H
X-Robots-Tag:noindex
X-PUBLISHED-TTL:PT1H
BEGIN:VTIMEZONE
TZID:Europe/Paris
BEGIN:DAYLIGHT
TZOFFSETFROM:+0100
TZOFFSETTO:+0200
TZNAME:CEST
DTSTART:20230326T010000
END:DAYLIGHT
BEGIN:STANDARD
TZOFFSETFROM:+0200
TZOFFSETTO:+0100
TZNAME:CET
DTSTART:20231029T010000
END:STANDARD
END:VTIMEZONE
BEGIN:VEVENT
DTSTART;VALUE=DATE:20231230
DTEND;VALUE=DATE:20231231
DTSTAMP:20260421T120034
CREATED:20231110T140511Z
LAST-MODIFIED:20231110T140511Z
UID:2831-1703894400-1703980799@knhsvv.nl
SUMMARY:Stimuleringsplan 16+ Hendrik Brühl
DESCRIPTION:
URL:https://knhsvv.nl/event/stimuleringsplan-16-hendrik-bruhl-2/
LOCATION:Trainingscenter IETS ANDERS\, Oudedijk 129\, Odiliapeel\, Noord-Brabant\, 5409SC\, Netherlands
CATEGORIES:Door KNHS Voltigevereniging,Evenementen
END:VEVENT
END:VCALENDAR