BEGIN:VCALENDAR
VERSION:2.0
PRODID:-//KNHS Voltigevereniging - ECPv6.8.1//NONSGML v1.0//EN
CALSCALE:GREGORIAN
METHOD:PUBLISH
X-WR-CALNAME:KNHS Voltigevereniging
X-ORIGINAL-URL:https://knhsvv.nl
X-WR-CALDESC:Evenementen voor KNHS Voltigevereniging
REFRESH-INTERVAL;VALUE=DURATION:PT1H
X-Robots-Tag:noindex
X-PUBLISHED-TTL:PT1H
BEGIN:VTIMEZONE
TZID:Europe/Paris
BEGIN:DAYLIGHT
TZOFFSETFROM:+0100
TZOFFSETTO:+0200
TZNAME:CEST
DTSTART:20240331T010000
END:DAYLIGHT
BEGIN:STANDARD
TZOFFSETFROM:+0200
TZOFFSETTO:+0100
TZNAME:CET
DTSTART:20241027T010000
END:STANDARD
END:VTIMEZONE
BEGIN:VEVENT
DTSTART;TZID=Europe/Paris:20240113T080000
DTEND;TZID=Europe/Paris:20240113T170000
DTSTAMP:20260421T104020
CREATED:20231110T141558Z
LAST-MODIFIED:20231110T141558Z
UID:2849-1705132800-1705165200@knhsvv.nl
SUMMARY:Stimuleringsprogramma 16+ Magdalena Riegler
DESCRIPTION:
URL:https://knhsvv.nl/event/stimuleringsprogramma-16-magdalena-riegler/
LOCATION:Trainingscenter IETS ANDERS\, Oudedijk 129\, Odiliapeel\, Noord-Brabant\, 5409SC\, Netherlands
CATEGORIES:Door KNHS Voltigevereniging
END:VEVENT
BEGIN:VEVENT
DTSTART;TZID=Europe/Paris:20240113T140000
DTEND;TZID=Europe/Paris:20240113T163000
DTSTAMP:20260421T104020
CREATED:20231012T062756Z
LAST-MODIFIED:20231012T062756Z
UID:2772-1705154400-1705163400@knhsvv.nl
SUMMARY:Training Barneveld stimuleringsprogramma 6-16 jaar
DESCRIPTION:
URL:https://knhsvv.nl/event/training-barneveld-stimuleringsprogramma-6-16-jaar-4/
CATEGORIES:Door KNHS Voltigevereniging
END:VEVENT
END:VCALENDAR