BEGIN:VCALENDAR
VERSION:2.0
PRODID:-//KNHS Voltigevereniging - ECPv6.8.1//NONSGML v1.0//EN
CALSCALE:GREGORIAN
METHOD:PUBLISH
X-ORIGINAL-URL:https://knhsvv.nl
X-WR-CALDESC:Evenementen voor KNHS Voltigevereniging
REFRESH-INTERVAL;VALUE=DURATION:PT1H
X-Robots-Tag:noindex
X-PUBLISHED-TTL:PT1H
BEGIN:VTIMEZONE
TZID:Europe/Paris
BEGIN:DAYLIGHT
TZOFFSETFROM:+0100
TZOFFSETTO:+0200
TZNAME:CEST
DTSTART:20240331T010000
END:DAYLIGHT
BEGIN:STANDARD
TZOFFSETFROM:+0200
TZOFFSETTO:+0100
TZNAME:CET
DTSTART:20241027T010000
END:STANDARD
END:VTIMEZONE
BEGIN:VEVENT
DTSTART;TZID=Europe/Paris:20240127T090000
DTEND;TZID=Europe/Paris:20240127T113000
DTSTAMP:20260421T121540
CREATED:20231012T063058Z
LAST-MODIFIED:20231012T063058Z
UID:2782-1706346000-1706355000@knhsvv.nl
SUMMARY:Training Odiliapeel stimuleringsprogramma 6-16 jaar
DESCRIPTION:
URL:https://knhsvv.nl/event/training-odiliapeel-stimuleringsprogramma-6-16-jaar-4/
CATEGORIES:Door KNHS Voltigevereniging
END:VEVENT
BEGIN:VEVENT
DTSTART;TZID=Europe/Paris:20240127T093000
DTEND;TZID=Europe/Paris:20240127T120000
DTSTAMP:20260421T121540
CREATED:20231012T062835Z
LAST-MODIFIED:20231012T062835Z
UID:2774-1706347800-1706356800@knhsvv.nl
SUMMARY:Training Barneveld stimuleringsprogramma 6-16 jaar
DESCRIPTION:
URL:https://knhsvv.nl/event/training-barneveld-stimuleringsprogramma-6-16-jaar-5/
CATEGORIES:Door KNHS Voltigevereniging
END:VEVENT
END:VCALENDAR