BEGIN:VCALENDAR
VERSION:2.0
PRODID:-//KNHS Voltigevereniging - ECPv6.8.1//NONSGML v1.0//EN
CALSCALE:GREGORIAN
METHOD:PUBLISH
X-ORIGINAL-URL:https://knhsvv.nl
X-WR-CALDESC:Evenementen voor KNHS Voltigevereniging
REFRESH-INTERVAL;VALUE=DURATION:PT1H
X-Robots-Tag:noindex
X-PUBLISHED-TTL:PT1H
BEGIN:VTIMEZONE
TZID:Europe/Paris
BEGIN:DAYLIGHT
TZOFFSETFROM:+0100
TZOFFSETTO:+0200
TZNAME:CEST
DTSTART:20240331T010000
END:DAYLIGHT
BEGIN:STANDARD
TZOFFSETFROM:+0200
TZOFFSETTO:+0100
TZNAME:CET
DTSTART:20241027T010000
END:STANDARD
END:VTIMEZONE
BEGIN:VEVENT
DTSTART;VALUE=DATE:20240302
DTEND;VALUE=DATE:20240303
DTSTAMP:20260421T072808
CREATED:20231110T140921Z
LAST-MODIFIED:20231110T140921Z
UID:2841-1709337600-1709423999@knhsvv.nl
SUMMARY:Stimuleringsprogramma 16+ Rob de Bruin
DESCRIPTION:
URL:https://knhsvv.nl/event/stimuleringsprogramma-16-rob-de-bruin-5/
LOCATION:Trainingscenter IETS ANDERS\, Oudedijk 129\, Odiliapeel\, Noord-Brabant\, 5409SC\, Netherlands
CATEGORIES:Door KNHS Voltigevereniging,Evenementen
END:VEVENT
END:VCALENDAR