BEGIN:VCALENDAR
VERSION:2.0
PRODID:-//KNHS Voltigevereniging - ECPv6.8.1//NONSGML v1.0//EN
CALSCALE:GREGORIAN
METHOD:PUBLISH
X-ORIGINAL-URL:https://knhsvv.nl
X-WR-CALDESC:Evenementen voor KNHS Voltigevereniging
REFRESH-INTERVAL;VALUE=DURATION:PT1H
X-Robots-Tag:noindex
X-PUBLISHED-TTL:PT1H
BEGIN:VTIMEZONE
TZID:Europe/Paris
BEGIN:DAYLIGHT
TZOFFSETFROM:+0100
TZOFFSETTO:+0200
TZNAME:CEST
DTSTART:20220327T010000
END:DAYLIGHT
BEGIN:STANDARD
TZOFFSETFROM:+0200
TZOFFSETTO:+0100
TZNAME:CET
DTSTART:20221030T010000
END:STANDARD
BEGIN:DAYLIGHT
TZOFFSETFROM:+0100
TZOFFSETTO:+0200
TZNAME:CEST
DTSTART:20230326T010000
END:DAYLIGHT
BEGIN:STANDARD
TZOFFSETFROM:+0200
TZOFFSETTO:+0100
TZNAME:CET
DTSTART:20231029T010000
END:STANDARD
END:VTIMEZONE
BEGIN:VEVENT
DTSTART;TZID=Europe/Paris:20231212T190000
DTEND;TZID=Europe/Paris:20231212T203000
DTSTAMP:20260419T205856
CREATED:20231107T213907Z
LAST-MODIFIED:20231107T213907Z
UID:2818-1702407600-1702413000@knhsvv.nl
SUMMARY:Online cursus Rob de Bruin 19:15 - 20:45 u
DESCRIPTION:Voor trainers\, longeurs\, voltigeurs en juryleden. \n\nOnderwerp zijn de reglementswijgingen nationaal en internationaal. Uitslag van de onderzoeken rondom het gebruik van de bijzetteugel
URL:https://knhsvv.nl/event/online-cursus-rob-de-bruin-1915-2045-u/
LOCATION:Noord-Brabant
CATEGORIES:Door KNHS Voltigevereniging,Evenementen
END:VEVENT
BEGIN:VEVENT
DTSTART;TZID=Europe/Paris:20231209T140000
DTEND;TZID=Europe/Paris:20231209T163000
DTSTAMP:20260419T205856
CREATED:20231012T062722Z
LAST-MODIFIED:20231012T062722Z
UID:2770-1702130400-1702139400@knhsvv.nl
SUMMARY:Training Barneveld stimuleringsprogramma 6-16 jaar
DESCRIPTION:
URL:https://knhsvv.nl/event/training-barneveld-stimuleringsprogramma-6-16-jaar-3/
LOCATION:Noord-Brabant
CATEGORIES:Door KNHS Voltigevereniging
END:VEVENT
BEGIN:VEVENT
DTSTART;VALUE=DATE:20231209
DTEND;VALUE=DATE:20231210
DTSTAMP:20260419T205856
CREATED:20231110T140008Z
LAST-MODIFIED:20231110T140008Z
UID:2824-1702080000-1702166399@knhsvv.nl
SUMMARY:Stimuleringsplan 16+
DESCRIPTION:Vanaf nu kun je online aanmelden voor de wintertrainingen met Magdalena Riegler\, Hendrik Brühl\, Rob de Bruin en Rob de Bruin van het stimuleringsprogramma 16+. Je kunt inschrijven als solist\, PdD of als team/groep. \nAanmelden kan hier: https://forms.office.com/Pages/ResponsePage.aspx?id=DQSIkWdsW0yxEjajBLZtrQAAAAAAAAAAAAEoJ7y2PVxUQUU3VkhERzRKVjNaUzFVMlZVNkhTN0ZROC4u\nVOL = VOL \nVoor meer info mail naar: talentenplan@knhsvv.nl of vraag het aan Lisette Peeters of Marielle van Dijk \nStimuleringsprogramma 16+
URL:https://knhsvv.nl/event/stimuleringsplan-16/
LOCATION:Trainingscenter IETS ANDERS\, Oudedijk 129\, Odiliapeel\, Noord-Brabant\, 5409SC\, Netherlands
CATEGORIES:Door KNHS Voltigevereniging,Evenementen
END:VEVENT
BEGIN:VEVENT
DTSTART;TZID=Europe/Paris:20231202T090000
DTEND;TZID=Europe/Paris:20231202T113000
DTSTAMP:20260419T205856
CREATED:20231012T063028Z
LAST-MODIFIED:20231012T063028Z
UID:2780-1701507600-1701516600@knhsvv.nl
SUMMARY:Training Odiliapeel stimuleringsprogramma 6-16 jaar
DESCRIPTION:
URL:https://knhsvv.nl/event/training-odiliapeel-stimuleringsprogramma-6-16-jaar-3/
LOCATION:Noord-Brabant
CATEGORIES:Door KNHS Voltigevereniging
END:VEVENT
BEGIN:VEVENT
DTSTART;TZID=Europe/Paris:20231202T083000
DTEND;TZID=Europe/Paris:20231202T110000
DTSTAMP:20260419T205856
CREATED:20231012T062133Z
LAST-MODIFIED:20231020T133916Z
UID:2754-1701505800-1701514800@knhsvv.nl
SUMMARY:Training Leidschendam stimuleringsprogramma 6-16 jaar
DESCRIPTION:
URL:https://knhsvv.nl/event/training-leidschendam-stimuleringsprogramma-6-16-jaar-2/
LOCATION:Noord-Brabant
CATEGORIES:Door KNHS Voltigevereniging
END:VEVENT
BEGIN:VEVENT
DTSTART;TZID=Europe/Paris:20231125T170000
DTEND;TZID=Europe/Paris:20231125T213000
DTSTAMP:20260419T205856
CREATED:20231121T204546Z
LAST-MODIFIED:20231121T204728Z
UID:2908-1700931600-1700947800@knhsvv.nl
SUMMARY:Voltige Café en Najaars ALV KNHS VV - Oortveldruiters Epe
DESCRIPTION:
URL:https://knhsvv.nl/event/voltige-cafe-en-alv-oortveldruiters-epe/
LOCATION:Noord-Brabant
CATEGORIES:Door KNHS Voltigevereniging,Evenementen
END:VEVENT
BEGIN:VEVENT
DTSTART;TZID=Europe/Paris:20231125T093000
DTEND;TZID=Europe/Paris:20231125T120000
DTSTAMP:20260419T205856
CREATED:20231012T062649Z
LAST-MODIFIED:20231012T062649Z
UID:2768-1700904600-1700913600@knhsvv.nl
SUMMARY:Training Barneveld stimuleringsprogramma 6-16 jaar
DESCRIPTION:
URL:https://knhsvv.nl/event/training-barneveld-stimuleringsprogramma-6-16-jaar-2/
LOCATION:Noord-Brabant
CATEGORIES:Door KNHS Voltigevereniging
END:VEVENT
BEGIN:VEVENT
DTSTART;TZID=Europe/Paris:20231118T093000
DTEND;TZID=Europe/Paris:20231118T120000
DTSTAMP:20260419T205856
CREATED:20231012T062059Z
LAST-MODIFIED:20231012T062059Z
UID:2752-1700299800-1700308800@knhsvv.nl
SUMMARY:Training Leidschendam stimuleringsprogramma 6-16 jaar
DESCRIPTION:
URL:https://knhsvv.nl/event/training-leidschendam-stimuleringsprogramma-6-16-jaar/
LOCATION:Noord-Brabant
CATEGORIES:Door KNHS Voltigevereniging
END:VEVENT
BEGIN:VEVENT
DTSTART;TZID=Europe/Paris:20231118T090000
DTEND;TZID=Europe/Paris:20231118T113000
DTSTAMP:20260419T205856
CREATED:20231012T063002Z
LAST-MODIFIED:20231012T063002Z
UID:2778-1700298000-1700307000@knhsvv.nl
SUMMARY:Training Odiliapeel stimuleringsprogramma 6-16 jaar
DESCRIPTION:
URL:https://knhsvv.nl/event/training-odiliapeel-stimuleringsprogramma-6-16-jaar-2/
LOCATION:Noord-Brabant
CATEGORIES:Door KNHS Voltigevereniging
END:VEVENT
BEGIN:VEVENT
DTSTART;TZID=Europe/Paris:20231111T140000
DTEND;TZID=Europe/Paris:20231111T163000
DTSTAMP:20260419T205856
CREATED:20231012T062618Z
LAST-MODIFIED:20231012T062618Z
UID:2766-1699711200-1699720200@knhsvv.nl
SUMMARY:Training Barneveld stimuleringsprogramma 6-16 jaar
DESCRIPTION:
URL:https://knhsvv.nl/event/training-barneveld-stimuleringsprogramma-6-16-jaar/
LOCATION:Noord-Brabant
CATEGORIES:Door KNHS Voltigevereniging
END:VEVENT
BEGIN:VEVENT
DTSTART;TZID=Europe/Paris:20231111T090000
DTEND;TZID=Europe/Paris:20231111T113000
DTSTAMP:20260419T205856
CREATED:20231012T062937Z
LAST-MODIFIED:20231012T062937Z
UID:2776-1699693200-1699702200@knhsvv.nl
SUMMARY:Training Odiliapeel stimuleringsprogramma 6-16 jaar
DESCRIPTION:
URL:https://knhsvv.nl/event/training-odiliapeel-stimuleringsprogramma-6-16-jaar/
LOCATION:Noord-Brabant
CATEGORIES:Door KNHS Voltigevereniging
END:VEVENT
BEGIN:VEVENT
DTSTART;TZID=Europe/Paris:20231104T093000
DTEND;TZID=Europe/Paris:20231104T120000
DTSTAMP:20260419T205856
CREATED:20231102T073051Z
LAST-MODIFIED:20231102T073109Z
UID:2802-1699090200-1699099200@knhsvv.nl
SUMMARY:Stimuleringsclinic - Odiliapeel
DESCRIPTION:
URL:https://knhsvv.nl/event/stimuleringsclinic-odiliapeel/
LOCATION:Trainingscenter IETS ANDERS\, Oudedijk 129\, Odiliapeel\, Noord-Brabant\, 5409SC\, Netherlands
CATEGORIES:Door KNHS Voltigevereniging,Evenementen
END:VEVENT
BEGIN:VEVENT
DTSTART;TZID=Europe/Paris:20231104T093000
DTEND;TZID=Europe/Paris:20231104T120000
DTSTAMP:20260419T205856
CREATED:20231011T201210Z
LAST-MODIFIED:20231012T064340Z
UID:2749-1699090200-1699099200@knhsvv.nl
SUMMARY:Training Leidschendam stimuleringsprogramma 6-16 jaar
DESCRIPTION:
URL:https://knhsvv.nl/event/stimuleringsprogramma-6-16-jaar/
LOCATION:Trainings- en revalidatiestal CK Bliss\, Oostvlietweg 28\, Leidschendam\, 2266 GM\, Nederland
CATEGORIES:Door KNHS Voltigevereniging
END:VEVENT
BEGIN:VEVENT
DTSTART;TZID=Europe/Paris:20231012T093000
DTEND;TZID=Europe/Paris:20231012T120000
DTSTAMP:20260419T205856
CREATED:20231012T062205Z
LAST-MODIFIED:20231012T062205Z
UID:2756-1697103000-1697112000@knhsvv.nl
SUMMARY:Training Leidschendam stimuleringsprogramma 6-16 jaar
DESCRIPTION:
URL:https://knhsvv.nl/event/training-leidschendam-stimuleringsprogramma-6-16-jaar-3/
LOCATION:Noord-Brabant
CATEGORIES:Door KNHS Voltigevereniging
END:VEVENT
BEGIN:VEVENT
DTSTART;TZID=Europe/Paris:20231001T090000
DTEND;TZID=Europe/Paris:20231001T180000
DTSTAMP:20260419T205856
CREATED:20230912T101918Z
LAST-MODIFIED:20230912T101948Z
UID:2720-1696150800-1696183200@knhsvv.nl
SUMMARY:Scoutingdag Stimuleringsprogramma Jonge Talenten KNHS voltigevereniging - Manege de Burght
DESCRIPTION:Scoutingdag Jonge Talenten tot 16 jaar bij Manege de Burght\, Barneveld tijd en nadere informatie volgt z.s.m.
URL:https://knhsvv.nl/event/scoutingdag-stimuleringsprogramma-jonge-talenten-knhs-voltigevereniging-manege-de-burght/
LOCATION:Manege de Burght\, Valkseweg 128\, Barneveld\, Gelderland\, 3771 SH\, Nederland
CATEGORIES:Door KNHS Voltigevereniging,Evenementen
END:VEVENT
BEGIN:VEVENT
DTSTART;VALUE=DATE:20230617
DTEND;VALUE=DATE:20230619
DTSTAMP:20260419T205856
CREATED:20221129T095654Z
LAST-MODIFIED:20230112T100008Z
UID:2331-1686960000-1687132799@knhsvv.nl
SUMMARY:Nationaal Voltige Weekend - KNHS voltigevereniging - Ermelo
DESCRIPTION:
URL:https://knhsvv.nl/event/nationaal-voltige-weekend-knhs-voltigevereniging-ermelo/
LOCATION:Noord-Brabant
CATEGORIES:Door KNHS Voltigevereniging,Wedstrijden
END:VEVENT
BEGIN:VEVENT
DTSTART;VALUE=DATE:20230520
DTEND;VALUE=DATE:20230522
DTSTAMP:20260419T205856
CREATED:20230131T105851Z
LAST-MODIFIED:20230131T105921Z
UID:2516-1684540800-1684713599@knhsvv.nl
SUMMARY:Trainingsworkshops met Jacques Ferrari - KNHSVV
DESCRIPTION:De KNHS VV organiseert trainingsworkshops met Jacques Ferrari gericht op voltigeurs (solo\, PDD of team) met minimaal M/ Junioren niveau. Meer informatie volgt z.s.m. \n 
URL:https://knhsvv.nl/event/trainingsworkshops-met-jacques-ferrari-knhsvv/
LOCATION:Trainingscenter IETS ANDERS\, Oudedijk 129\, Odiliapeel\, Noord-Brabant\, 5409SC\, Netherlands
CATEGORIES:Door KNHS Voltigevereniging,Evenementen
END:VEVENT
BEGIN:VEVENT
DTSTART;VALUE=DATE:20230402
DTEND;VALUE=DATE:20230403
DTSTAMP:20260419T205856
CREATED:20221208T091412Z
LAST-MODIFIED:20230112T121434Z
UID:2359-1680393600-1680479999@knhsvv.nl
SUMMARY:ALV en trainingsdag KNHSVV
DESCRIPTION:Trainingsdag en ALV KNHSVV  bij Trainingscenter IETS ANDERS\, Oudedijk 129\, 5409 SC Odilliapeel. \nTijdens de trainingscarrousel hebben we workshops op gebied van kür\, plicht\, turnen en dans. Er zal  training worden gegeven door: Claire de Ridder\, Magdalena Riegler\, Margriet Roeters\, Stefan Oostdijk\, Nathalie Sormani\, Ilse en Elle van Dijk\, en …. \nJe kunt ook weer intekenen voor de rundlauf  (solo\, pdd\, team\, of …) \nNieuw!!! Workshop ‘Positief Coachen’  speciaal voor instructeurs/ coaches/trainers door Amy Verhagen.
URL:https://knhsvv.nl/event/alv-en-trainingsdag-knhsvv-1-of-2-april/
LOCATION:Trainingscenter IETS ANDERS\, Oudedijk 129\, Odiliapeel\, Noord-Brabant\, 5409SC\, Netherlands
CATEGORIES:Door KNHS Voltigevereniging,Evenementen
END:VEVENT
BEGIN:VEVENT
DTSTART;TZID=Europe/Paris:20230211T150000
DTEND;TZID=Europe/Paris:20230211T173000
DTSTAMP:20260419T205856
CREATED:20221128T080817Z
LAST-MODIFIED:20221128T080817Z
UID:2281-1676127600-1676136600@knhsvv.nl
SUMMARY:Talentenplan JT Overberg
DESCRIPTION:
URL:https://knhsvv.nl/event/talentenplan-jt-overberg-5/
LOCATION:Noord-Brabant
CATEGORIES:Door KNHS Voltigevereniging,Evenementen
END:VEVENT
BEGIN:VEVENT
DTSTART;TZID=Europe/Paris:20230211T090000
DTEND;TZID=Europe/Paris:20230211T113000
DTSTAMP:20260419T205856
CREATED:20221128T081307Z
LAST-MODIFIED:20221128T081307Z
UID:2290-1676106000-1676115000@knhsvv.nl
SUMMARY:Talentenplan JT Odiliapeel
DESCRIPTION:
URL:https://knhsvv.nl/event/talentenplan-jt-odiliapeel-4/
LOCATION:Trainingscenter IETS ANDERS\, Oudedijk 129\, Odiliapeel\, Noord-Brabant\, 5409SC\, Netherlands
CATEGORIES:Door KNHS Voltigevereniging,Evenementen
END:VEVENT
BEGIN:VEVENT
DTSTART;TZID=Europe/Paris:20230204T113000
DTEND;TZID=Europe/Paris:20230204T140000
DTSTAMP:20260419T205856
CREATED:20221128T080301Z
LAST-MODIFIED:20230115T091404Z
UID:2267-1675510200-1675519200@knhsvv.nl
SUMMARY:Talentenplan JT Wapse
DESCRIPTION:
URL:https://knhsvv.nl/event/talentenplan-jt-wapse-4/
LOCATION:De Wolff Vaulting Wapse\, Bareldsweg 1\, Wapse\, Drenthe\, 7983 KH\, Nederland
CATEGORIES:Door KNHS Voltigevereniging,Evenementen
END:VEVENT
BEGIN:VEVENT
DTSTART;TZID=Europe/Paris:20230128T150000
DTEND;TZID=Europe/Paris:20230128T173000
DTSTAMP:20260419T205856
CREATED:20221128T080741Z
LAST-MODIFIED:20221128T080741Z
UID:2279-1674918000-1674927000@knhsvv.nl
SUMMARY:Talentenplan JT Overberg
DESCRIPTION:
URL:https://knhsvv.nl/event/talentenplan-jt-overberg-4/
LOCATION:Noord-Brabant
CATEGORIES:Door KNHS Voltigevereniging,Evenementen
END:VEVENT
BEGIN:VEVENT
DTSTART;TZID=Europe/Paris:20230122T080000
DTEND;TZID=Europe/Paris:20230122T170000
DTSTAMP:20260419T205856
CREATED:20221229T214707Z
LAST-MODIFIED:20221229T214922Z
UID:2413-1674374400-1674406800@knhsvv.nl
SUMMARY:Proefgerichte Clinic - Manege de Burgt\, Barneveld
DESCRIPTION:Proefgerichte Clinic – Manege de Burgt\, Barneveld
URL:https://knhsvv.nl/event/clinic-gerichte-proef/
LOCATION:Manege de Burght\, Valkseweg 128\, Barneveld\, Gelderland\, 3771 SH\, Nederland
CATEGORIES:Door KNHS Voltigevereniging
END:VEVENT
BEGIN:VEVENT
DTSTART;TZID=Europe/Paris:20230114T150000
DTEND;TZID=Europe/Paris:20230114T173000
DTSTAMP:20260419T205856
CREATED:20221128T080708Z
LAST-MODIFIED:20221128T080708Z
UID:2277-1673708400-1673717400@knhsvv.nl
SUMMARY:Talentenplan JT Overberg
DESCRIPTION:
URL:https://knhsvv.nl/event/talentenplan-jt-overberg-3/
LOCATION:Noord-Brabant
CATEGORIES:Door KNHS Voltigevereniging,Evenementen
END:VEVENT
BEGIN:VEVENT
DTSTART;TZID=Europe/Paris:20230114T090000
DTEND;TZID=Europe/Paris:20230114T113000
DTSTAMP:20260419T205856
CREATED:20221128T081349Z
LAST-MODIFIED:20221220T200501Z
UID:2293-1673686800-1673695800@knhsvv.nl
SUMMARY:Talentenplan JT Odiliapeel
DESCRIPTION:
URL:https://knhsvv.nl/event/talentenplan-jt-odiliapeel-5/
LOCATION:Trainingscenter IETS ANDERS\, Oudedijk 129\, Odiliapeel\, Noord-Brabant\, 5409SC\, Netherlands
CATEGORIES:Door KNHS Voltigevereniging,Evenementen
END:VEVENT
BEGIN:VEVENT
DTSTART;TZID=Europe/Paris:20230107T090000
DTEND;TZID=Europe/Paris:20230107T113000
DTSTAMP:20260419T205856
CREATED:20221128T081225Z
LAST-MODIFIED:20221128T081225Z
UID:2288-1673082000-1673091000@knhsvv.nl
SUMMARY:Talentenplan JT Odiliapeel
DESCRIPTION:
URL:https://knhsvv.nl/event/talentenplan-jt-odiliapeel-3/
LOCATION:Trainingscenter IETS ANDERS\, Oudedijk 129\, Odiliapeel\, Noord-Brabant\, 5409SC\, Netherlands
CATEGORIES:Door KNHS Voltigevereniging,Evenementen
END:VEVENT
BEGIN:VEVENT
DTSTART;TZID=Europe/Paris:20221229T180000
DTEND;TZID=Europe/Paris:20221229T210000
DTSTAMP:20260419T205856
CREATED:20221209T132900Z
LAST-MODIFIED:20221209T132900Z
UID:2368-1672336800-1672347600@knhsvv.nl
SUMMARY:Bestuursvergadering KNHS VV
DESCRIPTION:Alleen voor bestuur.
URL:https://knhsvv.nl/event/bestuursvergadering-knhs-vv/
LOCATION:Noord-Brabant
CATEGORIES:Door KNHS Voltigevereniging
END:VEVENT
BEGIN:VEVENT
DTSTART;TZID=Europe/Paris:20221217T090000
DTEND;TZID=Europe/Paris:20221217T113000
DTSTAMP:20260419T205856
CREATED:20221128T081143Z
LAST-MODIFIED:20221128T081143Z
UID:2286-1671267600-1671276600@knhsvv.nl
SUMMARY:Talentenplan JT Odiliapeel
DESCRIPTION:
URL:https://knhsvv.nl/event/talentenplan-jt-odiliapeel-2/
LOCATION:Trainingscenter IETS ANDERS\, Oudedijk 129\, Odiliapeel\, Noord-Brabant\, 5409SC\, Netherlands
CATEGORIES:Door KNHS Voltigevereniging,Evenementen
END:VEVENT
BEGIN:VEVENT
DTSTART;TZID=Europe/Paris:20221210T150000
DTEND;TZID=Europe/Paris:20221210T173000
DTSTAMP:20260419T205856
CREATED:20221128T080551Z
LAST-MODIFIED:20221128T080551Z
UID:2275-1670684400-1670693400@knhsvv.nl
SUMMARY:Talentenplan JT Overberg
DESCRIPTION:
URL:https://knhsvv.nl/event/talentenplan-jt-overberg-2/
LOCATION:Noord-Brabant
CATEGORIES:Door KNHS Voltigevereniging,Evenementen
END:VEVENT
BEGIN:VEVENT
DTSTART;TZID=Europe/Paris:20221119T090000
DTEND;TZID=Europe/Paris:20221119T113000
DTSTAMP:20260419T205856
CREATED:20221128T081047Z
LAST-MODIFIED:20221128T081047Z
UID:2283-1668848400-1668857400@knhsvv.nl
SUMMARY:Talentenplan JT Odiliapeel
DESCRIPTION:
URL:https://knhsvv.nl/event/talentenplan-jt-odiliapeel/
LOCATION:Trainingscenter IETS ANDERS\, Oudedijk 129\, Odiliapeel\, Noord-Brabant\, 5409SC\, Netherlands
CATEGORIES:Door KNHS Voltigevereniging,Evenementen
END:VEVENT
END:VCALENDAR